Workbook
Name Country_search: OFFSET([1]Countries!$D$2,,,COUNTIF([1]Countries!$D$2:$D$250,"?*"))
Name Country_search: OFFSET([1]Countries!$D$2,,,COUNTIF([1]Countries!$D$2:$D$250,"?*"))
Name Country_search: OFFSET([2]Countries!$D$2,,,COUNTIF([2]Countries!$D$2:$D$250,"?*"))
Name Country_search: OFFSET([1]Countries!$D$2,,,COUNTIF([1]Countries!$D$2:$D$250,"?*"))
Name Country_search: OFFSET(#REF!,,,COUNTIF(#REF!,"?*"))
Name PASSED: #REF!

Sheet GPA
A3: Pre-Mapping for the MSc programme in Earth and Space Physics and Engineering
A7: - This Excel workbook contains 5 sheets ("GPA", "Pre-requisites", "Other program specific courses ", "Other relevant information"and "SOP"). The whole workbook has to be uploaded with your application as a single file, in excel format (*.xlsx). - This workbook is used only as a part of the full assessment of your qualifications and the people evaluating your data have a good understanding of the pitfalls when translating between different grading systems. - After entering all your courses, if everything has been done correctly, the "GPA" field should calculate the corresponding estimations automatically. If not, please review all the data you have entered for errors. In case of problems, please contact us: - If you want to know more about the cells, you can select them to read more about them. - This sheet should be filled with Microsoft Excel. Other editors may tamper with the formating.
A9: Step 1 - Information about you: | L9: Bachelor of Arts with a specialization in Engineering or Natural Science | Z9: Bachelor of Natural Science
A10: Full name: | L10: Yes | Z10: Bachelor of Engineering
A11: Country of home University: | L11: No | Z11: Bachelor of Science in Engineering
A12: Name of home University: | L12: Pass/Fail | Z12: Bachelor of Arts with a specialization in Engineering or Natural Science
L13: Numbers | Z13: Other
A14: Step 2 - Information on your Bachelor degree: | L14: Letters
A15: Title of qualifying degree:
A16: Type of Bachelor's degree:
A17: Nominal length of qualifying degree (years):
A18: Minimum required credits for graduation (home university): | G18: Select an option below:
A19: Convert total amount of local credit to ECTS: Check for more information about conversion here | E19: Have you had a DTU student number previously? | I19: GPA: | J19: =IFERROR(IF(SUM(ISNUMBER(B39),ISNUMBER(C39),ISNUMBER(B40),ISNUMBER(C40),ISNUMBER(C41),ISNUMBER(B41))=6,SUMPRODUCT(B39:B138,C39:C138)/SUM(B39:B138)," ")," ") | K19: Make sure GPA shows a valid number. If not, check if you filled all the cells correctly.
A20: Step 3 - Information on grade/score/mark scale at your home university: | E20: Student number: | I20: GPA100%: | J20: {=IFERROR(IF(SUM(ISNUMBER(B39),ISNUMBER(C39),ISNUMBER(B40),ISNUMBER(C40),ISNUMBER(C41),ISNUMBER(B41))=6,SUMPRODUCT(B39:B138,(B21-C39:C138)/(B21-B23))/SUM(B39:B138)*100,""),"")}
A21: What is the minimum classification in your university? | D21: If your university did not follow a numerical grading scale, then fill out all your courses in this segment - Non-numerically graded courses OR Pass/fail courses (bottom of the sheet) ! | K21: An estimate of your Danish GPA (linear conversion to the danish grading system) | Z21: AD - Andorra
A22: How much do you need to pass a course in your university? | K22: GPA for courses of prerequisites (your home university grading scale) | Z22: AE - United Arab Emirates
A23: What is the best possible classification in your university? | Z23: AF - Afghanistan
Z24: AG - Antigua and Barbuda
Z25: AI - Anguilla
Z26: AL - Albania
Z27: AM - Armenia
Z28: AO - Angola
Z29: AQ - Antarctica
A30: Be careful! You might need to fill more than 1 table! | Z30: AR - Argentina
Z31: AS - American Samoa
Z32: AT - Austria
Z33: AU - Australia
Z34: AW - Aruba
A35: Mandatory field - Pre-Mapping | Z35: AX - Åland Islands
A36: - In the rows below, course name, credits and grades should be provided in accordance with your transcript. - In the 'Specific course description link' column, insert the official course description links for the courses from your home university that fall into at least one of the subjects, if written in English. If an English course description is not available, please upload a PDF. - Be sure to input only numerical values and use a dot (or comma depending on your computer settings) to separate the decimals. - Enter all completed courses from your BSc studies. Any Pass/Fail courses should be provided in the designated table below this table. In case you have not finished your BSc programme yet, provide the ongoing courses in the designated table. | B36: Credits (BSc) | C36: Local Grade (Bsc) | E36: Select an option below | N36: AZ - Azerbaijan | S36: AZ - Azerbaijan | Z36: AZ - Azerbaijan
A37: Credit estimation for relevant topic | B37: =SUM(B39:B138,B140:B214) -> 0 | D37: Is the website about the course in English? | N37: BA - Bosnia and Herzegovina | S37: BA - Bosnia and Herzegovina | Z37: BA - Bosnia and Herzegovina
A38: Grade estimation for relevant topic | C38: =IFERROR(AVERAGE(C39:C138),) -> 0 | D38: Specific course description links (if availabe in EN) only use if the course falls into the categories mentioned | E38: Comments (if any) | K38: Ongoing Courses | L38: Credits | M38: Comments | S38: BB - Barbados | Z38: BB - Barbados
A39: Write the name of course no. 1 | K39: Write name (and/or) course code of course no. 1 | R39: BD - Bangladesh | Z39: BD - Bangladesh
A40: Write the name of course no. 2 | K40: Write name (and/or) course code of course no. 2 | R40: BE - Belgium | Z40: BE - Belgium
A41: Write the name of course no. 3 | K41: Write name (and/or) course code of course no. 3 | R41: BF - Burkina Faso | Z41: BF - Burkina Faso
A42: Write the name of course no. 4 | K42: Write name (and/or) course code of course no. 4 | R42: BG - Bulgaria | Z42: BG - Bulgaria
A43: Write the name of course no. 5 | K43: Write name (and/or) course code of course no. 5 | R43: BH - Bahrain | Z43: BH - Bahrain
A44: Write the name of course no. 6 | K44: Write name (and/or) course code of course no. 6 | R44: BI - Burundi | Z44: BI - Burundi
A45: Write the name of course no. 7 | K45: Write name (and/or) course code of course no. 7 | R45: BJ - Benin | Z45: BJ - Benin
A46: Write the name of course no. 8 | K46: Write name (and/or) course code of course no. 8 | R46: BL - Saint Barthélemy | Z46: BL - Saint Barthélemy
A47: Write the name of course no. 9 | K47: Write name (and/or) course code of course no. 9 | R47: BM - Bermuda | Z47: BM - Bermuda
A48: Write the name of course no. 10 | K48: Write name (and/or) course code of course no. 10 | R48: BN - Brunei Darussalam | Z48: BN - Brunei Darussalam
A49: Write the name of course no. 11 | K49: Write name (and/or) course code of course no. 11 | R49: BO - Bolivia (Plurinational State of) | Z49: BO - Bolivia (Plurinational State of)
A50: Write the name of course no. 12 | K50: Write name (and/or) course code of course no. 12 | R50: BQ - Bonaire, Sint Eustatius and Saba | Z50: BQ - Bonaire, Sint Eustatius and Saba
... A67: Write the name of course no. 29 | K67: Write name (and/or) course code of course no. 29 | R67: CM - Cameroon | Z67: CM - Cameroon
A68: Write the name of course no. 30 | K68: Ongoing Credits Total: | L68: =SUM(L39:L67) -> 0 | S68: CN - China | Z68: CN - China
A69: Write the name of course no. 31 | N69: CO - Colombia | S69: CO - Colombia | Z69: CO - Colombia
A70: Write the name of course no. 32 | N70: CR - Costa Rica | S70: CR - Costa Rica | Z70: CR - Costa Rica
A71: Write the name of course no. 33 | N71: CU - Cuba | S71: CU - Cuba | Z71: CU - Cuba
A72: Write the name of course no. 34 | N72: CV - Cabo Verde | S72: CV - Cabo Verde | Z72: CV - Cabo Verde
A73: Write the name of course no. 35 | N73: CW - Curaçao | S73: CW - Curaçao | Z73: CW - Curaçao
A74: Write the name of course no. 36 | N74: CX - Christmas Island | S74: CX - Christmas Island | Z74: CX - Christmas Island
A75: Write the name of course no. 37 | N75: CY - Cyprus | S75: CY - Cyprus | Z75: CY - Cyprus
A76: Write the name of course no. 38 | N76: CZ - Czechia | S76: CZ - Czechia | Z76: CZ - Czechia
A77: Write the name of course no. 39 | N77: DE - Germany | S77: DE - Germany | Z77: DE - Germany
A78: Write the name of course no. 40 | N78: DJ - Djibouti | S78: DJ - Djibouti | Z78: DJ - Djibouti
A79: Write the name of course no. 41 | N79: DK - Denmark | S79: DK - Denmark | Z79: DK - Denmark
A80: Write the name of course no. 42 | N80: DM - Dominica | S80: DM - Dominica | Z80: DM - Dominica
... A140: Write name of course no. 1 | N140: NU - Niue | S140: NU - Niue | Z140: KN - Saint Kitts and Nevis
A141: Write name of course no. 2
A142: Write name of course no. 3
A143: Write name of course no. 4
A144: Write name of course no. 5
A145: Write name of course no. 6
A146: Write name of course no. 7
A147: Write name of course no. 8
A148: Write name of course no. 9
A149: Write name of course no. 10
A150: Write name of course no. 11
A151: Write name of course no. 12
A152: Write name of course no. 13
... A165: Write name of course no. 26
A166: Write name of course no. 27 | N166: NZ - New Zealand | S166: NZ - New Zealand | Z166: KP - Korea (Democratic People's Republic of)
A167: Write name of course no. 28 | N167: OM - Oman | S167: OM - Oman | Z167: KR - Korea, Republic of
A168: Write name of course no. 29 | N168: PA - Panama | S168: PA - Panama | Z168: KW - Kuwait
A169: Write name of course no. 30 | N169: PE - Peru | S169: PE - Peru | Z169: KY - Cayman Islands
A170: Write name of course no. 31 | N170: PF - French Polynesia | S170: PF - French Polynesia | Z170: KZ - Kazakhstan
A171: Write name of course no. 32 | N171: PG - Papua New Guinea | S171: PG - Papua New Guinea | Z171: LA - Lao People's Democratic Republic
A172: Write name of course no. 33 | N172: PH - Philippines | S172: PH - Philippines | Z172: LB - Lebanon
A173: Write name of course no. 34 | N173: PK - Pakistan | S173: PK - Pakistan | Z173: LC - Saint Lucia
A174: Write name of course no. 35 | N174: PL - Poland | S174: PL - Poland | Z174: LI - Liechtenstein
A175: Write name of course no. 36 | N175: PM - Saint Pierre and Miquelon | S175: PM - Saint Pierre and Miquelon | Z175: LK - Sri Lanka
A176: Write name of course no. 37 | N176: PN - Pitcairn | S176: PN - Pitcairn | Z176: LR - Liberia
A177: Write name of course no. 38 | N177: PR - Puerto Rico | S177: PR - Puerto Rico | Z177: LS - Lesotho
... A214: Write name of course no. 75 | N214: TJ - Tajikistan | S214: TJ - Tajikistan | Z214: NR - Nauru
A215: Pass/Fail Credits Total: | B215: =SUM(B140:B214) -> 0 | Z215: NU - Niue
Z216: NZ - New Zealand
Z217: OM - Oman
Z218: PA - Panama
Z219: PE - Peru
Z220: PF - French Polynesia
Z221: PG - Papua New Guinea
Z222: PH - Philippines
Z223: PK - Pakistan
Z224: PL - Poland
Z225: PM - Saint Pierre and Miquelon
Z226: PN - Pitcairn
Z227: PR - Puerto Rico
... Z294: ZW - Zimbabwe

Sheet Pre-requisites
A3: =GPA!A3 -> Pre-Mapping for the MSc programme in Earth and Space Physics and Engineering
Z7: AS - American Samoa
A8: - In the rows below, course name, credits and grades should be provided for the courses you took and match the topics highlighted in the table You are supposed to select some of the courses you typed in the previous sheet. The head of studies will look at the courses you took that fulfill the requiremets for the MSc programme. - The subject columns should be filled in providing a rough estimate of the course content in percentage. Only include major course contributions greater than or equal to 30% and only contributions where the subject(s) is being taught as distinguished from merely being used. - Be sure to input only numerical values and use a dot (or comma depending on your computer settings) to separate the decimals. | Z8: AT - Austria
Z9: AU - Australia
Z10: AW - Aruba
A11: Mandatory field - Programme-specific relevant courses | Z11: AX - Åland Islands
A12: Numerically graded courses | B12: Credits (BSc) | C12: Converted credits to ECTS | D12: Local Grade (Bsc) | E12: Grade 100% scale | F12: Linear algebra and multivariate calculus (vectors, matrices, eigenvalues…) | G12: Differential equations (Ordinary and partial) | H12: Statistic and probability (Distributors, confidence intervals, regression analysis, …) | I12: Mechanics (Newton’s laws, dynamics, fluid mechanics, etc. | J12: Thermodynamics (Temperature and heat, thermal properties, first and second laws, Ideal gas law ,…) | K12: Electromagnetics (Electric, magnetic, and electromagnetic fields; Maxwell equations, polarization, propagation…) | L12: Astrophysics (Physics of stars, cosmology, astrophysical observations) | M12: Geophysics (Solid physics of the Earth, the climate system of the Earth) | N12: Computer programming (Loops, calls, conditions, etc.) | O12: Electric circuits (Circuit laws (Kirchhoff), Thévenin and Norton equivalents, electric components, semiconductor components, op-amps, etc.) | P12: Signal analysis (Continuous and discrete signals, impulse and frequency response, Fourier transform, power spectra, sampling,…) | Q12: Other | T12: AZ - Azerbaijan
A13: Credit estimation for relevant topic | B13: =SUM(B15:B53,B55:B69) -> 0 | C13: =SUM(C15:C53,C55:C69) -> 0 | F13: =IFERROR(SUMPRODUCT($B$15:$B$69,F$15:F$69)/100,"") -> 0 | G13: =IFERROR(SUMPRODUCT($B$15:$B$69,G$15:G$69)/100,"") -> 0 | H13: =IFERROR(SUMPRODUCT($B$15:$B$69,H$15:H$69)/100,"") -> 0 | I13: =IFERROR(SUMPRODUCT($B$15:$B$69,I$15:I$69)/100,"") -> 0 | J13: =IFERROR(SUMPRODUCT($B$15:$B$69,J$15:J$69)/100,"") -> 0 | K13: =IFERROR(SUMPRODUCT($B$15:$B$69,K$15:K$69)/100,"") -> 0 | L13: =IFERROR(SUMPRODUCT($B$15:$B$69,L$15:L$69)/100,"") -> 0 | M13: =IFERROR(SUMPRODUCT($B$15:$B$69,M$15:M$69)/100,"") -> 0 | ... P13: =IFERROR(SUMPRODUCT($B$15:$B$69,P$15:P$69)/100,"") -> 0 | Q13: =IFERROR((B13-SUM(F13:P13))/B13,"") | T13: BA - Bosnia and Herzegovina
A14: Grade estimation for relevant topic | D14: =IFERROR(AVERAGE(D15:D53),) -> 0 | E14: =IFERROR(AVERAGEIF(E15:E53, "<>0"), "") | F14: =IFERROR(SUMPRODUCT($B$15:$B$53,$D$15:$D$53,F15:F53)/SUMPRODUCT($B$15:$B$53,F15:F53),0) -> 0 | G14: =IFERROR(SUMPRODUCT($B$15:$B$53,$D$15:$D$53,G15:G53)/SUMPRODUCT($B$15:$B$53,G15:G53),0) -> 0 | H14: =IFERROR(SUMPRODUCT($B$15:$B$53,$D$15:$D$53,H15:H53)/SUMPRODUCT($B$15:$B$53,H15:H53),0) -> 0 | I14: =IFERROR(SUMPRODUCT($B$15:$B$53,$D$15:$D$53,I15:I53)/SUMPRODUCT($B$15:$B$53,I15:I53),0) -> 0 | J14: =IFERROR(SUMPRODUCT($B$15:$B$53,$D$15:$D$53,J15:J53)/SUMPRODUCT($B$15:$B$53,J15:J53),0) -> 0 | K14: =IFERROR(SUMPRODUCT($B$15:$B$53,$D$15:$D$53,K15:K53)/SUMPRODUCT($B$15:$B$53,K15:K53),0) -> 0 | L14: =IFERROR(SUMPRODUCT($B$15:$B$53,$D$15:$D$53,L15:L53)/SUMPRODUCT($B$15:$B$53,L15:L53),0) -> 0 | M14: =IFERROR(SUMPRODUCT($B$15:$B$53,$D$15:$D$53,M15:M53)/SUMPRODUCT($B$15:$B$53,M15:M53),0) -> 0 | ... Q14: =IFERROR(SUMPRODUCT($B$15:$B$53,$D$15:$D$53,Q15:Q53)/SUMPRODUCT($B$15:$B$53,Q15:Q53),0) -> 0 | R14: Specific course description links (if availabe in EN) only use if the course falls into the categories mentioned | S14: Comments (if any) | T14: BB - Barbados
A15: Write the name of course no. 1 | E15: =IF(D15>0,(GPA!$B$21-D15)/(GPA!$B$21-GPA!$B$23)*100,0) -> 0 | Q15: =IF(ISBLANK(B15)," ",100-SUM(F15:P15)) | T15: BD - Bangladesh
A16: Write the name of course no. 2 | E16: =IF(D16>0,(GPA!$B$21-D16)/(GPA!$B$21-GPA!$B$23)*100,0) -> 0 | Q16: =IF(ISBLANK(B16)," ",100-SUM(F16:P16)) | T16: BE - Belgium
A17: Write the name of course no. 3 | E17: =IF(D17>0,(GPA!$B$21-D17)/(GPA!$B$21-GPA!$B$23)*100,0) -> 0 | Q17: =IF(ISBLANK(B17)," ",100-SUM(F17:P17)) | T17: BF - Burkina Faso
A18: Write the name of course no. 4 | E18: =IF(D18>0,(GPA!$B$21-D18)/(GPA!$B$21-GPA!$B$23)*100,0) -> 0 | Q18: =IF(ISBLANK(B18)," ",100-SUM(F18:P18)) | T18: BG - Bulgaria
A19: Write the name of course no. 5 | E19: =IF(D19>0,(GPA!$B$21-D19)/(GPA!$B$21-GPA!$B$23)*100,0) -> 0 | Q19: =IF(ISBLANK(B19)," ",100-SUM(F19:P19)) | T19: BH - Bahrain
A20: Write the name of course no. 6 | E20: =IF(D20>0,(GPA!$B$21-D20)/(GPA!$B$21-GPA!$B$23)*100,0) -> 0 | Q20: =IF(ISBLANK(B20)," ",100-SUM(F20:P20)) | T20: BI - Burundi
A21: Write the name of course no. 7 | E21: =IF(D21>0,(GPA!$B$21-D21)/(GPA!$B$21-GPA!$B$23)*100,0) -> 0 | Q21: =IF(ISBLANK(B21)," ",100-SUM(F21:P21)) | T21: BJ - Benin
A22: Write the name of course no. 8 | E22: =IF(D22>0,(GPA!$B$21-D22)/(GPA!$B$21-GPA!$B$23)*100,0) -> 0 | Q22: =IF(ISBLANK(B22)," ",100-SUM(F22:P22)) | T22: BL - Saint Barthélemy
A23: Write the name of course no. 9 | E23: =IF(D23>0,(GPA!$B$21-D23)/(GPA!$B$21-GPA!$B$23)*100,0) -> 0 | Q23: =IF(ISBLANK(B23)," ",100-SUM(F23:P23)) | T23: BM - Bermuda
A24: Write the name of course no. 10 | E24: =IF(D24>0,(GPA!$B$21-D24)/(GPA!$B$21-GPA!$B$23)*100,0) -> 0 | Q24: =IF(ISBLANK(B24)," ",100-SUM(F24:P24)) | T24: BN - Brunei Darussalam
A25: Write the name of course no. 11 | E25: =IF(D25>0,(GPA!$B$21-D25)/(GPA!$B$21-GPA!$B$23)*100,0) -> 0 | Q25: =IF(ISBLANK(B25)," ",100-SUM(F25:P25)) | T25: BO - Bolivia (Plurinational State of)
A26: Write the name of course no. 12 | E26: =IF(D26>0,(GPA!$B$21-D26)/(GPA!$B$21-GPA!$B$23)*100,0) -> 0 | Q26: =IF(ISBLANK(B26)," ",100-SUM(F26:P26)) | T26: BQ - Bonaire, Sint Eustatius and Saba
... A53: Write the name of course no. 39 | E53: =IF(D53>0,(GPA!$B$21-D53)/(GPA!$B$21-GPA!$B$23)*100,0) -> 0 | Q53: =IF(ISBLANK(B53)," ",100-SUM(F53:P53)) | T53: CA - Canada
A54: Non-numerically graded courses OR Pass/fail courses | T54: NR - Nauru
A55: Write name of course no. 1 | Q55: =IF(ISBLANK(B55)," ",100-SUM(F55:P55)) | T55: NU - Niue
A56: Write name of course no. 2 | Q56: =IF(ISBLANK(B56)," ",100-SUM(F56:P56)) | T56: NZ - New Zealand
A57: Write name of course no. 3 | Q57: =IF(ISBLANK(B57)," ",100-SUM(F57:P57)) | T57: OM - Oman
A58: Write name of course no. 4 | Q58: =IF(ISBLANK(B58)," ",100-SUM(F58:P58)) | T58: PA - Panama
A59: Write name of course no. 5 | Q59: =IF(ISBLANK(B59)," ",100-SUM(F59:P59)) | T59: PE - Peru
A60: Write name of course no. 6 | Q60: =IF(ISBLANK(B60)," ",100-SUM(F60:P60)) | T60: PF - French Polynesia
A61: Write name of course no. 7 | Q61: =IF(ISBLANK(B61)," ",100-SUM(F61:P61)) | T61: PG - Papua New Guinea
A62: Write name of course no. 8 | Q62: =IF(ISBLANK(B62)," ",100-SUM(F62:P62)) | T62: PH - Philippines
A63: Write name of course no. 9 | Q63: =IF(ISBLANK(B63)," ",100-SUM(F63:P63)) | T63: PK - Pakistan
A64: Write name of course no. 10 | Q64: =IF(ISBLANK(B64)," ",100-SUM(F64:P64)) | T64: PL - Poland
A65: Write name of course no. 11 | Q65: =IF(ISBLANK(B65)," ",100-SUM(F65:P65)) | T65: PM - Saint Pierre and Miquelon
A66: Write name of course no. 12 | Q66: =IF(ISBLANK(B66)," ",100-SUM(F66:P66)) | T66: PN - Pitcairn
... A69: Write name of course no. 15 | Q69: =IF(ISBLANK(B69)," ",100-SUM(F69:P69)) | T69: PT - Portugal
A70: Pass/Fail Credits Total: | B70: =SUM(B55:B69) -> 0 | Z70: TK - Tokelau
Z71: TL - Timor-Leste
Z72: TM - Turkmenistan
Z73: TN - Tunisia
Z74: TO - Tonga
Z75: TR - Turkey
Z76: TT - Trinidad and Tobago
Z77: TV - Tuvalu
Z78: TW - Taiwan, Province of China
Z79: TZ - Tanzania, United Republic of
Z80: UA - Ukraine
Z81: UG - Uganda
Z82: UM - United States Minor Outlying Islands
... Z99: ZW - Zimbabwe

Sheet Other program specific courses
A3: =GPA!A3 -> Pre-Mapping for the MSc programme in Earth and Space Physics and Engineering
A7: - In the rows below, course name, credits and grades should be provided for other courses you took that fall under the multiple categories. - Positive assessment will be given to applicants having academic knowledge in the courses below. You are supposed to select some of the courses you typped in the first sheet. The head of studies will look at the courses you took that compliment the requiremets for the MSc programme.
Z9: AW - Aruba
A10: Mandatory field - Other relevant courses | Z10: AX - Åland Islands
N11: AZ - Azerbaijan | S11: AZ - Azerbaijan
A12: Subject area | B12: Course title(s) | E12: Credits Local | F12: Credits ECTS | G12: Grade | M12: BA - Bosnia and Herzegovina
A13: 10034 Thermodynamics and statistical physics 5 ECTS | N13: BB - Barbados
M14: BD - Bangladesh
M15: BE - Belgium
M16: BF - Burkina Faso
M17: BG - Bulgaria
M18: BH - Bahrain
M19: BI - Burundi
M20: BJ - Benin
M21: BL - Saint Barthélemy
M22: BM - Bermuda
A23: 30121 Astrophysics I 5 ECTS | M23: BN - Brunei Darussalam
M24: BO - Bolivia (Plurinational State of)
M25: BQ - Bonaire, Sint Eustatius and Saba
M26: BR - Brazil
M27: BS - Bahamas
M28: BT - Bhutan
M29: BV - Bouvet Island
M30: BW - Botswana
M31: BY - Belarus
M32: BZ - Belize
A33: 30131 Geo- and Planetary Physics I 5 ECTS | M33: CA - Canada
M34: CC - Cocos (Keeling) Islands
M35: CD - Congo, Democratic Republic of the
M36: CF - Central African Republic
M37: CG - Congo
M38: CH - Switzerland
M39: CI - Côte d'Ivoire
M40: CK - Cook Islands
M41: CL - Chile
M42: CM - Cameroon
A43: 30160 Continuous and Discrete Time Signals 5 ECTS | N43: CN - China
M44: NR - Nauru
N45: NU - Niue | S45: NU - Niue
N46: NZ - New Zealand | S46: NZ - New Zealand
N47: OM - Oman | S47: OM - Oman
N48: PA - Panama | S48: PA - Panama
N49: PE - Peru | S49: PE - Peru
N50: PF - French Polynesia | S50: PF - French Polynesia
N51: PG - Papua New Guinea | S51: PG - Papua New Guinea
N52: PH - Philippines | S52: PH - Philippines
A53: 30015 Basic electronics for instrumentation 5 ECTS | N53: PK - Pakistan | S53: PK - Pakistan
N54: PL - Poland | S54: PL - Poland
N55: PM - Saint Pierre and Miquelon | S55: PM - Saint Pierre and Miquelon
N56: PN - Pitcairn | S56: PN - Pitcairn
N57: PR - Puerto Rico | S57: PR - Puerto Rico
N58: PS - Palestine, State of | S58: PS - Palestine, State of
N59: PT - Portugal | S59: PT - Portugal
N60: PW - Palau | S60: PW - Palau
N61: PY - Paraguay | S61: PY - Paraguay
N62: QA - Qatar | S62: QA - Qatar
N63: RE - Réunion | S63: RE - Réunion
N64: RO - Romania | S64: RO - Romania
Z65: TK - Tokelau
Z66: TL - Timor-Leste
Z67: TM - Turkmenistan
Z68: TN - Tunisia
Z69: TO - Tonga
Z70: TR - Turkey
Z71: TT - Trinidad and Tobago
Z72: TV - Tuvalu
Z73: TW - Taiwan, Province of China
Z74: TZ - Tanzania, United Republic of
Z75: UA - Ukraine
Z76: UG - Uganda
... Z94: ZW - Zimbabwe

Sheet Other relevant information
A1: Other relevant information
A3: -In this sheet you are supposed to provide other relevant information about your background - FOR THE INFORMATION ON "Signs of academic excellence" AND "Study related work", THE MINIMUM LEVEL REQUIRED IS BACHELOR - If you say Yes to the categories below, then submit the relevant documents in the application
A5: Signs of academic excellence | B5: Select an option below
A6: Do you have any Research experience/ Publications/ Awards ? | C6: List all the relevant infromation about your academic excellence (Write like: Year | Category (Research exp, award,etc.) | Description)
A9: Study related work | B9: Select an option below
A10: Do you have a study-related job? (OR Have you had) (e.g.: Industry working experience/ Internships/ Projects within Industry) | C10: List all the relevant infromation about your academic excellence (Write like: Year and duration | Category (Internship, Project, etc.) | Description)

Sheet SOP
A1: Statement of Purpose
A3: It is mandatory to submit a statement of purpose and it is a key document in the decision making process. It is therefore extremely important that you give considerable thought towards preparing the SOP. Be as concise and clear as possible. No separate SOP files will be considered. If you are applying for more than one programmes, prepare a SOP for each template. Below you will find a form where you must fill in the relevant information. Fields marked with (*), are mandatory and must be filled.
A8: Name: | B8: =GPA!B10 -> 0
A9: Country of University: | B9: =GPA!B11 -> 0
A10: Name of University: | B10: =GPA!B12 -> 0
A11: Title of Bachelor degree: | B11: =GPA!B15 -> 0
A14: Your plan for the future and motivation to study at DTU | E14: =IF(ISBLANK(A17)=TRUE,"THIS AREA IS MANDATORY; you must fill it out.","")
A16: State your future academic goals and how your study at DTU will help you achieve these (max. 1000 characters): *
A17: State your future academic goals and how your study at DTU will help you achieve these (max. 1000 characters): *
A31: Select two courses/subjects (at MSc level) from the DTU course catalogue which you plan to take:
A32: Course/Subject number* | B32: Course/Subject name* | E32: =IF(OR(ISBLANK(A34)=TRUE,ISBLANK(B34)=TRUE,ISBLANK(A35)=TRUE,ISBLANK(B35)=TRUE),"THIS AREA IS MANDATORY; you must fill it out.","") -> THIS AREA IS MANDATORY; you must fill it out.
A36: Find Courses at: | B36: http://kurser.dtu.dk/
A38: Describe how these courses/subjects support your academic goals (max. 500 characters): * | E38: =IF(ISBLANK(A39)=TRUE,"THIS AREA IS MANDATORY; you must fill it out.","") -> THIS AREA IS MANDATORY; you must fill it out.
A49: Other relevant information for your admission at DTU (if applicable)
A60: Have you applied to DTU before (if applicable) – | I60: Yes/No:
A61: If rejected: explain how you have upgraded your qualifications since then (max. 500 characters)
